BEGIN:VCALENDAR
VERSION:2.0
PRODID:-//eventon.com NONSGML v1.0//EN
CALSCALE:GREGORIAN
METHOD:PUBLISH
BEGIN:VEVENT
UID:69e7355a1051d
DTSTAMP:20260421T082914Z
DTSTART:20210707T180000Z
DTEND:20210707T193000Z
LOCATION:Skredhaugen
SUMMARY:Knut Markhus AVLYST!
DESCRIPTION:Knut Markhus AVLYST!\nhttps://skredhaugen.no/events/knut-markhu
 s/
URL:https://skredhaugen.no/events/knut-markhus/
END:VEVENT
END:VCALENDAR