BEGIN:VCALENDAR
VERSION:2.0
PRODID:-//eventon.com NONSGML v1.0//EN
CALSCALE:GREGORIAN
METHOD:PUBLISH
BEGIN:VEVENT
UID:69e7347b35cd1
DTSTAMP:20260421T082531Z
DTSTART:20210627T160000Z
DTEND:20210627T180000Z
LOCATION:Skredhaugen
SUMMARY:Opning av Skredhaugen
DESCRIPTION:Sundag 27. juni kl 16.00 er det sesongopning på Skredhaugen. P
 rogrammet startar med opning av to utstillingar\,  og så vert det konsert.
  Dialogutstilling #2: Annette Kierulf Dialogutstilling er eit 3-årig sama
 rbeidsprosjekt mellom Hardanger folkemuseum og kurator Lars Korff Lofthus\,
   der me inviterar samtidskunstnarar til å gå i dialog med den store[..]\
 nhttps://skredhaugen.no/events/opning-av-skredhaugen/
URL:https://skredhaugen.no/events/opning-av-skredhaugen/
END:VEVENT
END:VCALENDAR